BEGIN:VCALENDAR
VERSION:2.0
PRODID:-//http://www.aveherald.com//NONSGML kigkonsult.se iCalcreator 2.10.23//
METHOD:PUBLISH
X-WR-CALNAME:JCal Pro Calendar
X-WR-CALDESC:Your online events calendar
X-WR-TIMEZONE:UTC
BEGIN:VEVENT
UID:20170502T090000UTC-eadd0b@http://www.aveherald.com/
DTSTAMP:20260426T035412Z
DESCRIPTION:<p>The monthly meeting of the Ave Maria Stewardship Community D
 istrict will be held at 9 a.m. Tuesday\, May 2\, in the community room of 
 the Ave Maria Stewardship Community District in the town center. The meeti
 ng is open to the public.</p>\n<p>The agenda is below and the full meeting
  book\, with minutes from the last meeting and detail on agenda items\, is
  on the district's website at: <a href='http://avemariastewardshipcd.org/d
 ocuments/' target='_blank'>http://avemariastewardshipcd.org/documents/</a>
 </p>\n<p>The AMSCD is a special-purpose board whose primary responsibility
  is infrastructure such as major roads (road condition and landscaping alo
 ng the road)\, stormwater management and irrigation water.</p>\n<p>AGENDA<
 br /><span style='font-size: 1em\;'>AVE MARIA STEWARDSHIP COMMUNITY DISTRI
 CT<br /></span><span style='font-size: 1em\;'>Ave Maria Master Association
  (office/fitness center) 5076 Annunciation Circle\,<br /></span><span styl
 e='font-size: 1em\;'>REGULAR BOARD MEETING<br /></span><span style='font-s
 ize: 1em\;'>May 2\, 2017 9:00 a.m.</span></p>\n<p>A. Call to Order<br /><s
 pan style='font-size: 1em\;'>B. Pledge of Allegiance<br /></span><span sty
 le='font-size: 1em\;'>C. Proof of Publicatio<br /></span><span style='font
 -size: 1em\;'>D. Establish Quorum<br /></span><span style='font-size: 1em\
 ;'>E. Additions or Deletions to Agenda</span><span style='font-size: 1em\;
 '><br />F. Comments from the Public for Items Not on the Agenda<br /></spa
 n><span style='font-size: 1em\;'>G. Approval of Minutes<br /></span><span 
 style='font-size: 1em\;'>H. Old Business<br /></span><span style='font-siz
 e: 1em\;'>I. New Business<br /></span><span style='font-size: 1em\;'>  1. 
 Update from Special Election<br /></span><span style='font-size: 1em\;'>  
  • Audience Comments<br /></span><span style='font-size: 1em\;'>  2. Consi
 der Approval of Maintenance Agreement between the District and the Maple R
 idge HOA<br /></span><span style='font-size: 1em\;'>   • Audience Comments
 <br />  3. </span><span style='font-size: 1em\;'>Consider Authorization of
  Appraisal on Lands to be Owned by AMSCD<br /></span><span style='font-siz
 e: 1em\;'>   • Audience Comments<br /></span><span style='font-size: 1em\;
 '>  4. Consider Authorization of Update O&M Methodology Report<br /></span
 ><span style='font-size: 1em\;'>   • Audience Comments<br /></span><span s
 tyle='font-size: 1em\;'>J. Administrative Matters<br /></span><span style=
 'font-size: 1em\;'>  1. Legal Report<br /></span><span style='font-size: 1
 em\;'>  2. Engineer Report<br /></span><span style='font-size: 1em\;'>  3.
  Manager's Report<br /></span><span style='font-size: 1em\;'>K. Board Memb
 ers Comments<br /></span><span style='font-size: 1em\;'>L. Adjourn</span><
 /p>
DTSTART:20170502T000000Z
SUMMARY:Ave Maria Stewardship Community District Meeting
END:VEVENT
BEGIN:VEVENT
UID:20170519T090000UTC-473bc7@http://www.aveherald.com/
DTSTAMP:20260426T035412Z
DESCRIPTION:<p>All are invited to the 6th Annual Marian Eucharistic Confere
 nce '100 Years of Fatima - A Message for Today May 19\, 21\, 2017 at Ave M
 aria University. Featured speakers include EWTN's Fr. Bill Casey\, Curtis 
 Martin\, Dr. Mark Miravalle\, Kathleen Beckman and Dr. Susan Muto with mus
 ic by Martin Doman and the AMU Band. In addition to the great talks the we
 ekend will also include daily Mass\, Rosary Walks and Benediction.</p>\n<p
 >Special pricing available for Ave Maria residents - $75 with meals and $5
 0 without meals\, no lodging. Call today (239) 348-4725 to register or vis
 it https://www.aveconferences.com/marian-conference for more information o
 r to register online.</p>
DTSTART:20170519T090000Z
SUMMARY:Marian Eucharistic Conference at AMU
END:VEVENT
BEGIN:VEVENT
UID:20170519T090000UTC-473bc7@http://www.aveherald.com/
DTSTAMP:20260426T035412Z
DESCRIPTION:<p>All are invited to the 6th Annual Marian Eucharistic Confere
 nce '100 Years of Fatima - A Message for Today May 19\, 21\, 2017 at Ave M
 aria University. Featured speakers include EWTN's Fr. Bill Casey\, Curtis 
 Martin\, Dr. Mark Miravalle\, Kathleen Beckman and Dr. Susan Muto with mus
 ic by Martin Doman and the AMU Band. In addition to the great talks the we
 ekend will also include daily Mass\, Rosary Walks and Benediction.</p>\n<p
 >Special pricing available for Ave Maria residents - $75 with meals and $5
 0 without meals\, no lodging. Call today (239) 348-4725 to register or vis
 it https://www.aveconferences.com/marian-conference for more information o
 r to register online.</p>
DTSTART:20170520T090000Z
SUMMARY:Marian Eucharistic Conference at AMU
END:VEVENT
BEGIN:VEVENT
UID:20170519T090000UTC-473bc7@http://www.aveherald.com/
DTSTAMP:20260426T035412Z
DESCRIPTION:<p>All are invited to the 6th Annual Marian Eucharistic Confere
 nce '100 Years of Fatima - A Message for Today May 19\, 21\, 2017 at Ave M
 aria University. Featured speakers include EWTN's Fr. Bill Casey\, Curtis 
 Martin\, Dr. Mark Miravalle\, Kathleen Beckman and Dr. Susan Muto with mus
 ic by Martin Doman and the AMU Band. In addition to the great talks the we
 ekend will also include daily Mass\, Rosary Walks and Benediction.</p>\n<p
 >Special pricing available for Ave Maria residents - $75 with meals and $5
 0 without meals\, no lodging. Call today (239) 348-4725 to register or vis
 it https://www.aveconferences.com/marian-conference for more information o
 r to register online.</p>
DTSTART:20170521T090000Z
SUMMARY:Marian Eucharistic Conference at AMU
END:VEVENT
BEGIN:VEVENT
UID:20170714T090000UTC-ea8347@http://www.aveherald.com/
DTSTAMP:20260426T035412Z
DESCRIPTION:<p>The 10th Annual Ave Maria Youth Conference - 'Proclaim' - wi
 ll be held  July 14-16 at Ave Maria University. <br /><br />Featured speak
 ers include Michael Gormley\, Mary Bielski\, Bob Lesnefsky\, and Fr. Chris
  Argano\, vocations director for the Archdiocese of New York.<br /><br />T
 he cost is $175 and includes meals and lodging. Special pricing of $75 is 
 available for Ave Maria residents. Visit www.aveconferences.com for more i
 nformation or call (239) 348-4725</p>
DTSTART:20170714T090000Z
SUMMARY:Ave Maria Youth Conference 
END:VEVENT
BEGIN:VEVENT
UID:20170714T090000UTC-ea8347@http://www.aveherald.com/
DTSTAMP:20260426T035412Z
DESCRIPTION:<p>The 10th Annual Ave Maria Youth Conference - 'Proclaim' - wi
 ll be held  July 14-16 at Ave Maria University. <br /><br />Featured speak
 ers include Michael Gormley\, Mary Bielski\, Bob Lesnefsky\, and Fr. Chris
  Argano\, vocations director for the Archdiocese of New York.<br /><br />T
 he cost is $175 and includes meals and lodging. Special pricing of $75 is 
 available for Ave Maria residents. Visit www.aveconferences.com for more i
 nformation or call (239) 348-4725</p>
DTSTART:20170715T090000Z
SUMMARY:Ave Maria Youth Conference 
END:VEVENT
BEGIN:VEVENT
UID:20170714T090000UTC-ea8347@http://www.aveherald.com/
DTSTAMP:20260426T035412Z
DESCRIPTION:<p>The 10th Annual Ave Maria Youth Conference - 'Proclaim' - wi
 ll be held  July 14-16 at Ave Maria University. <br /><br />Featured speak
 ers include Michael Gormley\, Mary Bielski\, Bob Lesnefsky\, and Fr. Chris
  Argano\, vocations director for the Archdiocese of New York.<br /><br />T
 he cost is $175 and includes meals and lodging. Special pricing of $75 is 
 available for Ave Maria residents. Visit www.aveconferences.com for more i
 nformation or call (239) 348-4725</p>
DTSTART:20170716T090000Z
SUMMARY:Ave Maria Youth Conference 
END:VEVENT
END:VCALENDAR
