BEGIN:VCALENDAR
VERSION:2.0
PRODID:-//http://www.aveherald.com//NONSGML kigkonsult.se iCalcreator 2.10.23//
METHOD:PUBLISH
X-WR-CALNAME:JCal Pro Calendar
X-WR-CALDESC:Your online events calendar
X-WR-TIMEZONE:UTC
BEGIN:VEVENT
UID:20170714T090000UTC-ea8347@http://www.aveherald.com/
DTSTAMP:20260426T024023Z
DESCRIPTION:<p>The 10th Annual Ave Maria Youth Conference - 'Proclaim' - wi
 ll be held  July 14-16 at Ave Maria University. <br /><br />Featured speak
 ers include Michael Gormley\, Mary Bielski\, Bob Lesnefsky\, and Fr. Chris
  Argano\, vocations director for the Archdiocese of New York.<br /><br />T
 he cost is $175 and includes meals and lodging. Special pricing of $75 is 
 available for Ave Maria residents. Visit www.aveconferences.com for more i
 nformation or call (239) 348-4725</p>
DTSTART:20170715T090000Z
SUMMARY:Ave Maria Youth Conference 
END:VEVENT
END:VCALENDAR
