BEGIN:VCALENDAR
VERSION:2.0
PRODID:-//http://www.aveherald.com//NONSGML kigkonsult.se iCalcreator 2.10.23//
METHOD:PUBLISH
X-WR-CALNAME:JCal Pro Calendar
X-WR-CALDESC:Your online events calendar
X-WR-TIMEZONE:UTC
BEGIN:VEVENT
UID:20120707T110000UTC-ec314d@http://aveherald.com/
DTSTAMP:20260420T222057Z
DESCRIPTION:<p>Shamrock bank will celebrate the 5th anniversary of its foun
 ding with an open house at its new branch in Ave Maria. From 11 a.m. to 2 
 p.m. Saturday\, July 7\, people will be able to tour the new facility and 
 meet the Shamrock team of bankers. There will be food and giveaways\, and 
 all are welcome.<br /><br />The branch is planned to open in late August. 
 </p>
DTSTART:20120707T000000Z
SUMMARY:Shamrock Bank Open House and Birthday Bash
END:VEVENT
END:VCALENDAR
